BEGIN:VCALENDAR
VERSION:2.0
PRODID:-//Northern Ski Team - ECPv5.3.1.1//NONSGML v1.0//EN
CALSCALE:GREGORIAN
METHOD:PUBLISH
X-WR-CALNAME:Northern Ski Team
X-ORIGINAL-URL:https://northernskiteam.co.nz
X-WR-CALDESC:Events for Northern Ski Team
BEGIN:VTIMEZONE
TZID:Pacific/Auckland
BEGIN:STANDARD
TZOFFSETFROM:+1300
TZOFFSETTO:+1200
TZNAME:NZST
DTSTART:20210403T140000
END:STANDARD
BEGIN:DAYLIGHT
TZOFFSETFROM:+1200
TZOFFSETTO:+1300
TZNAME:NZDT
DTSTART:20210925T140000
END:DAYLIGHT
END:VTIMEZONE
BEGIN:VEVENT
DTSTART;TZID=Pacific/Auckland:20211002T000000
DTEND;TZID=Pacific/Auckland:20211002T235959
DTSTAMP:20210122T194030
CREATED:20201231T232611Z
LAST-MODIFIED:20201231T232702Z
UID:5584-1633132800-1633219199@northernskiteam.co.nz
SUMMARY:Whakapapa Junior Interfield #4
DESCRIPTION:
URL:https://northernskiteam.co.nz/calendar/whakapapa-junior-interfield-4/
LOCATION:Whakapapa Skifield\, Mt Ruapehu\, New Zealand
CATEGORIES:Mt Ruapehu
END:VEVENT
BEGIN:VEVENT
DTSTART;TZID=Pacific/Auckland:20210918T000000
DTEND;TZID=Pacific/Auckland:20210919T235959
DTSTAMP:20210122T194030
CREATED:20200126T224158Z
LAST-MODIFIED:20201225T192715Z
UID:4475-1631923200-1632095999@northernskiteam.co.nz
SUMMARY:North Island Champs (Junior Interfield)
DESCRIPTION:The North Island Champs event includes New Zealand Youth Series Nation Points races for the senior athletes (age groups U14 and above) and Junior Interfield races for the younger athletes (age groups U14 and below) \nDay One: \n\nRace day – more details to come\n\nDay Two: \n\nRace day – more details to come\n\nRegistrations: \n\nNorthern Ski Team registrations not yet open – Registrations will open as soon as Snow Sports New Zealand open race registration. We will send an email with updates (please ensure you have subscribed to our newsletter from our homepage).\nPlease note: Registration with Northern Ski Team does not include race entry. Race entry must be completed with SSNZ directly.\n\n\nAge Groups: Northern Ski Team will be representing and offering race day support to athletes in the following age groups for this event: \n\nUnder 8\nUnder 10\nUnder 12\nUnder 14\n\nAthlete Chaperone Available: \n\nYes\, athlete chaperone applications will be accepted for this event. There will be a maximum of 4 x chaperone spaces. See more information below\n\n\n  \nEquipment: \n\nAll athletes must wear a helmet at all times. This is compulsory across all Northern Ski Team programmes. Back protectors are also recommended for athletes. The coach has the right to refuse training to athletes who do not have the appropriate equipment.\n\nLiability: \n\nSnow sports involve a certain element of risk & are therefore undertaken at your own risk. We accept no responsibility for any accidents\, damage\, loss\, injury\, sickness\, death\, cancellation\, delay or other unforeseen events that occur during the course of a training programme on or off-snow.\nWe reserve the right to decline\, cancel or withdraw any athlete. We expect athletes to conduct themselves in a professional manner at all times as set out in the athlete code of conduct in the athlete handbook.
URL:https://northernskiteam.co.nz/calendar/2020-north-island-champs-junior-interfield/
LOCATION:Whakapapa Skifield\, Mt Ruapehu\, New Zealand
CATEGORIES:Mt Ruapehu
END:VEVENT
BEGIN:VEVENT
DTSTART;TZID=Pacific/Auckland:20210913T000000
DTEND;TZID=Pacific/Auckland:20210916T235959
DTSTAMP:20210122T194030
CREATED:20200127T180146Z
LAST-MODIFIED:20201225T192302Z
UID:4565-1631491200-1631836799@northernskiteam.co.nz
SUMMARY:NIPS - Intermediate (Years 7-8)
DESCRIPTION:The North Island Intermediate School Snow Sports Championship \nAs NIPS is a school event\, there is no club/team representation at these competitions. Schools register ‘team(s)’ of athletes directly with the NIPS organising committee (https://www.nips.org.nz/). \nWe will post further updates on this event page as we find out more.
URL:https://northernskiteam.co.nz/calendar/2020-nips-intermediate-years-7-8/
LOCATION:Whakapapa Skifield\, Mt Ruapehu\, New Zealand
CATEGORIES:Mt Ruapehu
END:VEVENT
BEGIN:VEVENT
DTSTART;TZID=Pacific/Auckland:20210910T000000
DTEND;TZID=Pacific/Auckland:20210912T235959
DTSTAMP:20210122T194030
CREATED:20200725T213621Z
LAST-MODIFIED:20201231T232229Z
UID:5398-1631232000-1631491199@northernskiteam.co.nz
SUMMARY:Mt Hutt South Island Champs Weekend
DESCRIPTION:This weekend is set to be one of the biggest race events of the 2021 junior race calendar… We can’t wait for all to join us! \nWe strongly recommend athletes join us for the 3-day option\, which will see us spend the Friday race training (at either Porters or Mt Hutt)\, followed by GS race day on the Saturday and SL race day on the Sunday.For those athletes that can’t take the Friday off school\, then take the 2-day option and join us for the Saturday and Sunday. \nWe’ve arranged a deal with Barkers Lodge in Methven for accommodation for the team (more information below) \nCoaches in attendance for this camp will be: \n\nJustin Stoddard\nDuane Barakat\nAdrian Farnsworth\n\nThere are two options available for this weekend: \n\n  3-Day Option\n\nFriday 10th September\n\nTraining Day at Porters or Mt Hutt\n\n\nSaturday 11th September\n\nRace 1 = GS South Island Junior Interfield Champs\nRace 2 = GS Mt Hutt Junior Interfield \n\n\nSunday 12th September\n\nRace 1 = SL South Island Junior Interfield Champs\nRace 2 = SL Mt Hutt Junior Interfield\n\n\n\n\n  2-Day Option\n\nSaturday 11th September\n\nRace 1 = GS South Island Junior Interfield Champs\nRace 2 = GS Mt Hutt Junior Interfield \n\n\nSunday 12th September\n\nRace 1 = SL South Island Junior Interfield Champs\nRace 2 = SL Mt Hutt Junior Interfield \n\n\n\n\n\n\n\nTraining Fees:\n\n\n\n3-Day Option(Fri 10th Sep – Sun 12th Sep)$390.002-Day Option – Add to Cart(Sat 11th Sep – Sun 12th Sep)$260.00\n\n\n\nWhat’s included:\n\n\n\nTraining day coaching\, which will consist of 2-4 hours of training in a race lane (dependent on weather and snow conditions)\, followed by general skier improvement training in the afternoon.Race day ski tune and wax on Friday and Saturday nights for all athletes that have their skis at Barkers Lodge.Race day representation and coaching\, which will consist of: representation of Northern Ski Team athletes at official meetings; collection of race bibs; race day briefings with athletes; course inspection with athletes; and assistance and support at the start gate. Following prize-giving\, we will head back on-snow for some free-skiing together as time and conditions allow.Off-snow activities for bad weather days\, off-snow afternoons and evenings will be arranged for athletes and families.  We have heaps of options\, including hikes\, trips (including Christchurch city centre & Hanmer Springs) and hireage of the local hall (80 metres from Smylies) for dryland training or fun and games.\n\n\n\nWhat’s Not Included:\n\n\n\nLift Passes for athletes. Mt Hutt lift passes for competitors (those aged 11 and older) are discounted to $34.50 for each of the race days.  Children aged 10 and under ski for free at Porters and Mt Hutt.Interfield race entry for the race events. Athletes will be required to register and pay via the Snow Sports NZ website. Please ensure that athletes select Northern Ski Team as the training provider and club that they are representing.Return flights to Christchurch. Currently\, it looks like Jetstar have the more reasonably priced fares across this weekend.Accommodation during the weekend.Tony and the awesome team at Barkers Lodge have opened up the lodge for our team during this weekend. All rooms in the lodge have a fridge and an ensuite\, and the lodge facilities include an open fireplace\, pool table\, Nintendo Wii\, Sky TV\, spa pool\, ski workshop (for waxing and tuning) and a licensed bar.We strongly encourage all of our families to choose Barkers as your accommodation option\, which will allow our athletes to come together as a team and will help make the weekend an awesome experience for everyone!To book\, please contact Tony and the team at Barkers on 03 302 8721\, 021 0505933 or barkerslodge@xtra.co.nz Pricing is per person per night based on the number of people you book in your room (and includes continental breakfast):Single = $110 ppTwin share = $65 ppTriple share = $50 ppQuad share = $45 ppMeals throughout the weekend.For those staying at Barkers Lodge\, the pricing includes continental breakfast. With regard to dinner\, there is a full kitchen available in the lodge for people to prepare their own meals\, otherwise there are a number of good options to eat out in Methven.Transport throughout the weekend.For car rental we recommend you take a look at airportrentals.com as a good car rental comparison website for rentals from Christchurch airport where you can get a RAV4 AWD from as low as $70 per day. If you plan on driving up to the ski resorts\, please be sure to rent a 4WD or AWD vehicle and be sure to add chain hire if the forecast is looking like there is a possibility of snow during our visit.\n\n\n\nFAQs\n\n\n\nWhat is the refund policy? We have a strict ‘no refunds’ policy for this camp (including for bad weather days). This policy is due to the fixed-costs associated with running these weekends.If the weekend does not proceed for any reason\, we will provide 100% refund on all payments made to Northern Ski Team.In the scenario of bad weather days\, we will run an alternative day of off-snow training and activities. This may include activities such as:– Indoor activities and training at the hall in Springfield– Hikes and outdoor activities– Trips to Christchurch\, Hanmer Springs\, etc.   Are chaperone opportunities available? For this camp\, we are able to chaperone a limited number of athletes. However\, chaperone is by application only and the final decision is at the sole discretion of the NST executive committee.The chaperone cost for this camp is $150 per night\, which includes:– Accommodation– Dinner & breakfast– Ground transport while in Christchurch– Adult supervision throughout the campFor families considering chaperone\, see below the current details for the coaches’ flights to help with your planning. Alternatively\, we can help pair the athletes up with some of our other families on flights if these times don’t work well.– Auckland to Christchurch:        – Thu 10 Sep – Departs 7.05pm (JQ 239)        – Fri 11 Sep – Departs 7.05pm (JQ 239)– Christchurch to Auckland        – Sun 13 Sep – Departs 7.40pm (JQ 240)To discuss chaperone options\, please email us at theteam@northernskiteam.co.nz and we will call you to discuss further.   What do I need to bring? Gear you NEED to bring:– Helmet & goggles– Slalom skis and/or GS skis. If the athlete only has 1 pair a kombi or slalom ski is best– Poles. GS poles are not required but slalom pole guards should be removed for GS training/racing.– Properly fitting ski boots. – Training suit and shortsOPTIONAL gear:– Chin guard (optional). Chin Guards should be removed for GS training– Arm Guards (optional – soccer shin guards work well)– Tuning equipment– Rugby style mouth guard (optional)– Snow boots (optional)In the ATHLETE DAY PACK:Athletes should bring a small pack each day. This pack will be left top of course each day\, including: beanie\, spare gloves\, spare goggles\, water\, snack\, money\, sunscreen\, medicine (if required) and an extra top/jacket in case athlete gets cold
URL:https://northernskiteam.co.nz/calendar/mt-hutt-south-island-champs-junior-interfield-2-race-weekend/
LOCATION:Mt Hutt Skifield
CATEGORIES:South Island
END:VEVENT
BEGIN:VEVENT
DTSTART;TZID=Pacific/Auckland:20210830T000000
DTEND;TZID=Pacific/Auckland:20210902T235959
DTSTAMP:20210122T194030
CREATED:20200127T180504Z
LAST-MODIFIED:20201207T233909Z
UID:4567-1630281600-1630627199@northernskiteam.co.nz
SUMMARY:NIPS - Primary (Years 1-6)
DESCRIPTION:North Island Primary School Ski Championship \nAs NIPS is a school event\, there is no club/team representation at these competitions. Schools register ‘team(s)’ of athletes directly with the NIPS organising committee (https://www.nips.org.nz/). \nWe will post further updates on this event page as we find out more.
URL:https://northernskiteam.co.nz/calendar/2020-nips-primary-years-1-6/
LOCATION:Whakapapa Skifield\, Mt Ruapehu\, New Zealand
CATEGORIES:Mt Ruapehu
END:VEVENT
BEGIN:VEVENT
DTSTART;TZID=Pacific/Auckland:20210821T000000
DTEND;TZID=Pacific/Auckland:20210822T235959
DTSTAMP:20210122T194030
CREATED:20201231T231503Z
LAST-MODIFIED:20201231T231852Z
UID:5578-1629504000-1629676799@northernskiteam.co.nz
SUMMARY:Whakapapa Junior Interfield #2
DESCRIPTION:
URL:https://northernskiteam.co.nz/calendar/whakapapa-junior-interfield-2/
LOCATION:Whakapapa Skifield\, Mt Ruapehu\, New Zealand
CATEGORIES:Mt Ruapehu
END:VEVENT
BEGIN:VEVENT
DTSTART;TZID=Pacific/Auckland:20210807T000000
DTEND;TZID=Pacific/Auckland:20210808T235959
DTSTAMP:20210122T194030
CREATED:20200124T093302Z
LAST-MODIFIED:20201225T191929Z
UID:4349-1628294400-1628467199@northernskiteam.co.nz
SUMMARY:Waimarino Trophy (Junior Interfield)
DESCRIPTION:The Waimarino Trophy is a two-day race event held at Whakapapa. \nDay One: \n\nRace day – more details to come\n\nDay Two: \n\nRace day – more details to come\n\nRegistrations: \n\nNorthern Ski Team registrations not yet open – Registrations will open as soon as Snow Sports New Zealand open race registration. We will send an email with updates (please ensure you have subscribed to our newsletter from our homepage).\nPlease note: Registration with Northern Ski Team does not include race entry. Race entry must be completed with SSNZ directly.\n\n\nAge Groups:Northern Ski Team will be representing and offering race day support to athletes in the following age groups for this event: \n\nUnder 8\nUnder 10\nUnder 12\nUnder 14 (Junior Interfields only) \n\nAthlete Chaperone Available: \n\nYes\, athlete chaperone applications will be accepted for this event. There will be a maximum of 4 x chaperone spaces. See more information below\n\n\n  \nEquipment: \n\nAll athletes must wear a helmet at all times. This is compulsory across all Northern Ski Team programmes. Back protectors are also recommended for athletes. The coach has the right to refuse training to athletes who do not have the appropriate equipment.\n\nLiability: \n\nSnow sports involve a certain element of risk & are therefore undertaken at your own risk. We accept no responsibility for any accidents\, damage\, loss\, injury\, sickness\, death\, cancellation\, delay or other unforeseen events that occur during the course of a training programme on or off-snow.\nWe reserve the right to decline\, cancel or withdraw any athlete. We expect athletes to conduct themselves in a professional manner at all times as set out in the athlete code of conduct in the athlete handbook.
URL:https://northernskiteam.co.nz/calendar/2020-waimarino-trophy-junior-interfields/
LOCATION:Whakapapa Skifield\, Mt Ruapehu\, New Zealand
CATEGORIES:Mt Ruapehu
END:VEVENT
BEGIN:VEVENT
DTSTART;TZID=Pacific/Auckland:20210712T000000
DTEND;TZID=Pacific/Auckland:20210725T235959
DTSTAMP:20210122T194030
CREATED:20201231T230614Z
LAST-MODIFIED:20210101T030943Z
UID:5573-1626048000-1627257599@northernskiteam.co.nz
SUMMARY:2021 July School Holiday Camp
DESCRIPTION:
URL:https://northernskiteam.co.nz/calendar/2021-july-school-holiday-camp/
CATEGORIES:South Island
END:VEVENT
BEGIN:VEVENT
DTSTART;TZID=Pacific/Auckland:20210221T000000
DTEND;TZID=Pacific/Auckland:20210328T235959
DTSTAMP:20210122T194030
CREATED:20201226T012734Z
LAST-MODIFIED:20210109T204406Z
UID:5558-1613865600-1616975999@northernskiteam.co.nz
SUMMARY:Sunday Mornings - Term 1\, 2021
DESCRIPTION:
URL:https://northernskiteam.co.nz/calendar/sunday-mornings-term-1-2021/
LOCATION:Snowplanet\, 91 Small Road\, Auckland\, 0992\, New Zealand
CATEGORIES:Snowplanet
END:VEVENT
BEGIN:VEVENT
DTSTART;TZID=Pacific/Auckland:20210203T000000
DTEND;TZID=Pacific/Auckland:20210414T235959
DTSTAMP:20210122T194030
CREATED:20201226T021807Z
LAST-MODIFIED:20201226T021949Z
UID:5560-1612310400-1618444799@northernskiteam.co.nz
SUMMARY:Wednesday Evenings - Term 1\, 2021
DESCRIPTION:
URL:https://northernskiteam.co.nz/calendar/wednesday-evenings-term-1-2021/
LOCATION:Snowplanet\, 91 Small Road\, Auckland\, 0992\, New Zealand
CATEGORIES:Snowplanet
END:VEVENT
END:VCALENDAR